BEGIN:VCALENDAR
VERSION:2.0
PRODID:-//Groupe des marcheurs - ECPv6.9.0//NONSGML v1.0//EN
CALSCALE:GREGORIAN
METHOD:PUBLISH
X-WR-CALNAME:Groupe des marcheurs
X-ORIGINAL-URL:https://marcheurs-sonceboz.ch
X-WR-CALDESC:Évènements pour Groupe des marcheurs
REFRESH-INTERVAL;VALUE=DURATION:PT1H
X-Robots-Tag:noindex
X-PUBLISHED-TTL:PT1H
BEGIN:VTIMEZONE
TZID:Europe/Zurich
BEGIN:DAYLIGHT
TZOFFSETFROM:+0100
TZOFFSETTO:+0200
TZNAME:CEST
DTSTART:20250330T010000
END:DAYLIGHT
BEGIN:STANDARD
TZOFFSETFROM:+0200
TZOFFSETTO:+0100
TZNAME:CET
DTSTART:20251026T010000
END:STANDARD
END:VTIMEZONE
BEGIN:VEVENT
DTSTART;VALUE=DATE:20250405
DTEND;VALUE=DATE:20250407
DTSTAMP:20260420T175133
CREATED:20250119T083038Z
LAST-MODIFIED:20250403T155657Z
UID:29467-1743811200-1743983999@marcheurs-sonceboz.ch
SUMMARY:Marche à Niedergösgen SO
DESCRIPTION:Parcours: 3/6/10/20 km \nFlyers: Niedergösgen0425
URL:https://marcheurs-sonceboz.ch/event/marche-a-niedergosgen-so/
LOCATION:Mehrzweckhalle Niedergösgen\, Stockackerstr.17\, Niedergösgen\, 5013\, Switzerland
CATEGORIES:Marche populaire
END:VEVENT
BEGIN:VEVENT
DTSTART;VALUE=DATE:20250413
DTEND;VALUE=DATE:20250414
DTSTAMP:20260420T175133
CREATED:20250119T084926Z
LAST-MODIFIED:20250119T091103Z
UID:29475-1744502400-1744588799@marcheurs-sonceboz.ch
SUMMARY:Marche à Kaiserstuhl AG
DESCRIPTION:Parcours: 6/10 km
URL:https://marcheurs-sonceboz.ch/event/marche-a-kaiserstuhl-ag/
LOCATION:Schulhaus Blöleboden\, Kaiserstuhl\, 5466\, Switzerland
CATEGORIES:Marche populaire
END:VEVENT
BEGIN:VEVENT
DTSTART;VALUE=DATE:20250419
DTEND;VALUE=DATE:20250420
DTSTAMP:20260420T175133
CREATED:20210326T085045Z
LAST-MODIFIED:20250119T084220Z
UID:29090-1745020800-1745107199@marcheurs-sonceboz.ch
SUMMARY:Marche de Pâques 2025 à Cortébert
DESCRIPTION:
URL:https://marcheurs-sonceboz.ch/event/marche-de-paques-2021/
LOCATION:2607 Cortébert\, Grand-Rue 21\, Cortébert\, 2607\, Switzerland
CATEGORIES:Marche populaire
END:VEVENT
BEGIN:VEVENT
DTSTART;VALUE=DATE:20250426
DTEND;VALUE=DATE:20250428
DTSTAMP:20260420T175133
CREATED:20250121T231932Z
LAST-MODIFIED:20250121T231932Z
UID:29762-1745625600-1745798399@marcheurs-sonceboz.ch
SUMMARY:Marche à Cernay F
DESCRIPTION:Parcours: 5/10/16/20 km
URL:https://marcheurs-sonceboz.ch/event/marche-a-cernay-f/
LOCATION:Complexe Sportif Daniel Eck\, 11 rue Roger Hassenforder\, Cernay\, 68\, 68700\, France
CATEGORIES:Marche populaire
END:VEVENT
END:VCALENDAR