BEGIN:VCALENDAR
VERSION:2.0
PRODID:-//Groupe des marcheurs - ECPv6.9.0//NONSGML v1.0//EN
CALSCALE:GREGORIAN
METHOD:PUBLISH
X-ORIGINAL-URL:https://marcheurs-sonceboz.ch
X-WR-CALDESC:Évènements pour Groupe des marcheurs
REFRESH-INTERVAL;VALUE=DURATION:PT1H
X-Robots-Tag:noindex
X-PUBLISHED-TTL:PT1H
BEGIN:VTIMEZONE
TZID:Europe/Zurich
BEGIN:DAYLIGHT
TZOFFSETFROM:+0100
TZOFFSETTO:+0200
TZNAME:CEST
DTSTART:20250330T010000
END:DAYLIGHT
BEGIN:STANDARD
TZOFFSETFROM:+0200
TZOFFSETTO:+0100
TZNAME:CET
DTSTART:20251026T010000
END:STANDARD
END:VTIMEZONE
BEGIN:VEVENT
DTSTART;VALUE=DATE:20250503
DTEND;VALUE=DATE:20250505
DTSTAMP:20260420T152435
CREATED:20250119T085900Z
LAST-MODIFIED:20250119T091035Z
UID:29480-1746230400-1746403199@marcheurs-sonceboz.ch
SUMMARY:Marche à Weier im Emmental BE
DESCRIPTION:Parcours: 3/6/12 km
URL:https://marcheurs-sonceboz.ch/event/marche-a-weier-im-emmental-be/
LOCATION:Träffpunkt EGW\, Affolternstr. 24\, Weier i.E\, 3462\, Switzerland
CATEGORIES:Marche populaire
END:VEVENT
BEGIN:VEVENT
DTSTART;VALUE=DATE:20250517
DTEND;VALUE=DATE:20250519
DTSTAMP:20260420T152435
CREATED:20250119T090220Z
LAST-MODIFIED:20250119T090908Z
UID:29484-1747440000-1747612799@marcheurs-sonceboz.ch
SUMMARY:Dernière marche à Hirschthal AG
DESCRIPTION:Parcours: 3/6/10/20 km \nFlyers: Hirschthal0525
URL:https://marcheurs-sonceboz.ch/event/derniere-marche-a-hirschthal-ag/
LOCATION:Mehrzweckhalle Hirschmatt\, Trottengasse 4\, Hirschthal\, 5042\, Switzerland
CATEGORIES:Marche populaire
END:VEVENT
BEGIN:VEVENT
DTSTART;VALUE=DATE:20250524
DTEND;VALUE=DATE:20250526
DTSTAMP:20260420T152435
CREATED:20250119T092305Z
LAST-MODIFIED:20250119T092305Z
UID:29500-1748044800-1748217599@marcheurs-sonceboz.ch
SUMMARY:Marche à Frauenfeld TG
DESCRIPTION:Parcours: 5/10/20 \nFlyers: Frauenfeld0524
URL:https://marcheurs-sonceboz.ch/event/marche-a-frauenfeld-tg/
LOCATION:Pavillons im Murg-Auen-Park\, Murg-Auen-Park\, Frauenfeld\, 8500\, Switzerland
CATEGORIES:Marche populaire
END:VEVENT
BEGIN:VEVENT
DTSTART;VALUE=DATE:20250531
DTEND;VALUE=DATE:20250602
DTSTAMP:20260420T152435
CREATED:20250119T232446Z
LAST-MODIFIED:20250119T232446Z
UID:29525-1748649600-1748822399@marcheurs-sonceboz.ch
SUMMARY:Marche suisse de deux jours à Berne BE
DESCRIPTION:66ème Marche des 2 jours de Berne \nParcours: 10/20/30/40 km
URL:https://marcheurs-sonceboz.ch/event/marche-suisse-de-deux-jours-a-berne-be/
LOCATION:MK Bern\, Papiermühlestr.91\, Berne\, 3014\, Switzerland
CATEGORIES:Marche populaire
END:VEVENT
END:VCALENDAR