BEGIN:VCALENDAR
VERSION:2.0
PRODID:-//Groupe des marcheurs - ECPv6.9.0//NONSGML v1.0//EN
CALSCALE:GREGORIAN
METHOD:PUBLISH
X-WR-CALNAME:Groupe des marcheurs
X-ORIGINAL-URL:https://marcheurs-sonceboz.ch
X-WR-CALDESC:Évènements pour Groupe des marcheurs
REFRESH-INTERVAL;VALUE=DURATION:PT1H
X-Robots-Tag:noindex
X-PUBLISHED-TTL:PT1H
BEGIN:VTIMEZONE
TZID:Europe/Zurich
BEGIN:DAYLIGHT
TZOFFSETFROM:+0100
TZOFFSETTO:+0200
TZNAME:CEST
DTSTART:20250330T010000
END:DAYLIGHT
BEGIN:STANDARD
TZOFFSETFROM:+0200
TZOFFSETTO:+0100
TZNAME:CET
DTSTART:20251026T010000
END:STANDARD
END:VTIMEZONE
BEGIN:VEVENT
DTSTART;VALUE=DATE:20250531
DTEND;VALUE=DATE:20250602
DTSTAMP:20260420T132813
CREATED:20250119T232446Z
LAST-MODIFIED:20250119T232446Z
UID:29525-1748649600-1748822399@marcheurs-sonceboz.ch
SUMMARY:Marche suisse de deux jours à Berne BE
DESCRIPTION:66ème Marche des 2 jours de Berne \nParcours: 10/20/30/40 km
URL:https://marcheurs-sonceboz.ch/event/marche-suisse-de-deux-jours-a-berne-be/
LOCATION:MK Bern\, Papiermühlestr.91\, Berne\, 3014\, Switzerland
CATEGORIES:Marche populaire
END:VEVENT
BEGIN:VEVENT
DTSTART;VALUE=DATE:20250607
DTEND;VALUE=DATE:20250609
DTSTAMP:20260420T132813
CREATED:20250119T095253Z
LAST-MODIFIED:20250119T234608Z
UID:29510-1749254400-1749427199@marcheurs-sonceboz.ch
SUMMARY:1ère Marche à Gelterkinden BL
DESCRIPTION:Une nouvelle marche à découvrir! \n  \nParcours: 3/6/10 km \nFlyers: Ausschreibung Geischtli-Marsch
URL:https://marcheurs-sonceboz.ch/event/1eme-marche-a-gelterkinden-bl/
LOCATION:MZH Gelterkinden\, Turnhallenstrasse 18\, Gelterkinden\, 4460
CATEGORIES:Marche populaire
END:VEVENT
BEGIN:VEVENT
DTSTART;VALUE=DATE:20250614
DTEND;VALUE=DATE:20250616
DTSTAMP:20260420T132813
CREATED:20250119T233743Z
LAST-MODIFIED:20250403T155504Z
UID:29534-1749859200-1750031999@marcheurs-sonceboz.ch
SUMMARY:Marche à Heitenried FR
DESCRIPTION:Parcours: 3/5/10/20 km \nFlyers: Heitenried0625
URL:https://marcheurs-sonceboz.ch/event/marche-a-heitenried-fr/
LOCATION:Vereins-und Kulturhaus\, Dorfstr. 38\, Heitenried\, 1714\, Switzerland
CATEGORIES:Marche populaire
END:VEVENT
BEGIN:VEVENT
DTSTART;VALUE=DATE:20250621
DTEND;VALUE=DATE:20250623
DTSTAMP:20260420T132814
CREATED:20250119T234028Z
LAST-MODIFIED:20250403T155347Z
UID:29538-1750464000-1750636799@marcheurs-sonceboz.ch
SUMMARY:Marche à Nebikon LU
DESCRIPTION:Parcours: 3/5/10/20 km \nFlyers: Nebikon0625
URL:https://marcheurs-sonceboz.ch/event/marche-a-nebikon-lu/
LOCATION:Kirchenzentrum Nebikon\, Kirchplatz\, Nebikon\, 6244\, Switzerland
CATEGORIES:Marche populaire
END:VEVENT
BEGIN:VEVENT
DTSTART;VALUE=DATE:20250629
DTEND;VALUE=DATE:20250630
DTSTAMP:20260420T132814
CREATED:20250119T234336Z
LAST-MODIFIED:20250403T155244Z
UID:29541-1751155200-1751241599@marcheurs-sonceboz.ch
SUMMARY:Marche à Oberrieden ZH
DESCRIPTION:Parcours: 5/10 km \nFlyers: Oberrieden0625
URL:https://marcheurs-sonceboz.ch/event/marche-a-oberrieden-zh/
LOCATION:MZH Pünt\, Püntstr. 8\, Oberrieden\, 8942\, Switzerland
CATEGORIES:Marche populaire
END:VEVENT
END:VCALENDAR