BEGIN:VCALENDAR
VERSION:2.0
PRODID:-//Groupe des marcheurs - ECPv6.9.0//NONSGML v1.0//EN
CALSCALE:GREGORIAN
METHOD:PUBLISH
X-ORIGINAL-URL:https://marcheurs-sonceboz.ch
X-WR-CALDESC:Évènements pour Groupe des marcheurs
REFRESH-INTERVAL;VALUE=DURATION:PT1H
X-Robots-Tag:noindex
X-PUBLISHED-TTL:PT1H
BEGIN:VTIMEZONE
TZID:Europe/Zurich
BEGIN:DAYLIGHT
TZOFFSETFROM:+0100
TZOFFSETTO:+0200
TZNAME:CEST
DTSTART:20250330T010000
END:DAYLIGHT
BEGIN:STANDARD
TZOFFSETFROM:+0200
TZOFFSETTO:+0100
TZNAME:CET
DTSTART:20251026T010000
END:STANDARD
END:VTIMEZONE
BEGIN:VEVENT
DTSTART;VALUE=DATE:20250705
DTEND;VALUE=DATE:20250707
DTSTAMP:20260420T103525
CREATED:20250119T234950Z
LAST-MODIFIED:20250119T234950Z
UID:29546-1751673600-1751846399@marcheurs-sonceboz.ch
SUMMARY:Marche à Kaisten AG
DESCRIPTION:Parcours: 6/10 km
URL:https://marcheurs-sonceboz.ch/event/marche-a-kaisten-ag/
LOCATION:Mehrzweckhalle Kaisten\, Wuermatt 1\, Kaisten\, 5082\, Switzerland
CATEGORIES:Marche populaire
END:VEVENT
BEGIN:VEVENT
DTSTART;VALUE=DATE:20250712
DTEND;VALUE=DATE:20250714
DTSTAMP:20260420T103525
CREATED:20250119T235348Z
LAST-MODIFIED:20250403T153843Z
UID:29550-1752278400-1752451199@marcheurs-sonceboz.ch
SUMMARY:Marche à Hermrigen BE (anciennement à Täuffelen)
DESCRIPTION:ATTENTION: NOUVEAU LIEU DE DÉPART ! \nParcours: 3/6/10 km \nFlyers: Marche_Hermrigen_2025
URL:https://marcheurs-sonceboz.ch/event/marche-a-tauffelen-be/
LOCATION:Buvette FC Täuffelen\, Reserwatweg 6\, Täuffelen\, 2575\, Switzerland
CATEGORIES:Marche populaire
END:VEVENT
BEGIN:VEVENT
DTSTART;VALUE=DATE:20250719
DTEND;VALUE=DATE:20250721
DTSTAMP:20260420T103525
CREATED:20250119T233032Z
LAST-MODIFIED:20250119T233032Z
UID:29529-1752883200-1753055999@marcheurs-sonceboz.ch
SUMMARY:Marche à Weilheim-Remetschwiel D
DESCRIPTION:Parcours: 6/10 km \nFlyers: Remetschwiel07:25
URL:https://marcheurs-sonceboz.ch/event/marche-a-weilheim-remetschwiel-d/
LOCATION:Haagwaldhalle\, Waldhausstraße 3\, Weilheim-Remetschwiel\, 79809\, Germany
CATEGORIES:Marche populaire
END:VEVENT
BEGIN:VEVENT
DTSTART;VALUE=DATE:20250719
DTEND;VALUE=DATE:20250721
DTSTAMP:20260420T103525
CREATED:20250119T235728Z
LAST-MODIFIED:20250403T155143Z
UID:29554-1752883200-1753055999@marcheurs-sonceboz.ch
SUMMARY:Marche à Croy VD
DESCRIPTION:Parcours: 5/10 km \nFlyers: Croy0725
URL:https://marcheurs-sonceboz.ch/event/marche-a-croy-vd/
LOCATION:Grande Salle de Croy\, le Praz-Amiet\, Croy\, 1322\, Switzerland
CATEGORIES:Marche populaire
END:VEVENT
END:VCALENDAR