BEGIN:VCALENDAR
VERSION:2.0
PRODID:-//Groupe des marcheurs - ECPv6.9.0//NONSGML v1.0//EN
CALSCALE:GREGORIAN
METHOD:PUBLISH
X-WR-CALNAME:Groupe des marcheurs
X-ORIGINAL-URL:https://marcheurs-sonceboz.ch
X-WR-CALDESC:Évènements pour Groupe des marcheurs
REFRESH-INTERVAL;VALUE=DURATION:PT1H
X-Robots-Tag:noindex
X-PUBLISHED-TTL:PT1H
BEGIN:VTIMEZONE
TZID:Europe/Zurich
BEGIN:DAYLIGHT
TZOFFSETFROM:+0100
TZOFFSETTO:+0200
TZNAME:CEST
DTSTART:20250330T010000
END:DAYLIGHT
BEGIN:STANDARD
TZOFFSETFROM:+0200
TZOFFSETTO:+0100
TZNAME:CET
DTSTART:20251026T010000
END:STANDARD
END:VTIMEZONE
BEGIN:VEVENT
DTSTART;VALUE=DATE:20250503
DTEND;VALUE=DATE:20250505
DTSTAMP:20260420T180057
CREATED:20250119T085900Z
LAST-MODIFIED:20250119T091035Z
UID:29480-1746230400-1746403199@marcheurs-sonceboz.ch
SUMMARY:Marche à Weier im Emmental BE
DESCRIPTION:Parcours: 3/6/12 km
URL:https://marcheurs-sonceboz.ch/event/marche-a-weier-im-emmental-be/
LOCATION:Träffpunkt EGW\, Affolternstr. 24\, Weier i.E\, 3462\, Switzerland
CATEGORIES:Marche populaire
END:VEVENT
END:VCALENDAR