BEGIN:VCALENDAR
VERSION:2.0
PRODID:-//Groupe des marcheurs - ECPv6.9.0//NONSGML v1.0//EN
CALSCALE:GREGORIAN
METHOD:PUBLISH
X-ORIGINAL-URL:https://marcheurs-sonceboz.ch
X-WR-CALDESC:Évènements pour Groupe des marcheurs
REFRESH-INTERVAL;VALUE=DURATION:PT1H
X-Robots-Tag:noindex
X-PUBLISHED-TTL:PT1H
BEGIN:VTIMEZONE
TZID:Europe/Zurich
BEGIN:DAYLIGHT
TZOFFSETFROM:+0100
TZOFFSETTO:+0200
TZNAME:CEST
DTSTART:20250330T010000
END:DAYLIGHT
BEGIN:STANDARD
TZOFFSETFROM:+0200
TZOFFSETTO:+0100
TZNAME:CET
DTSTART:20251026T010000
END:STANDARD
END:VTIMEZONE
BEGIN:VEVENT
DTSTART;VALUE=DATE:20250830
DTEND;VALUE=DATE:20250901
DTSTAMP:20260420T101605
CREATED:20250121T191516Z
LAST-MODIFIED:20250121T203851Z
UID:29710-1756512000-1756684799@marcheurs-sonceboz.ch
SUMMARY:Marche à Attalens FR
DESCRIPTION:Parcours: 5/10 km
URL:https://marcheurs-sonceboz.ch/event/marche-a-attalens-fr/
LOCATION:Salle Pavoissiale\, Rue de l'Eglise 6\, Attalens\, 1616\, Switzerland
CATEGORIES:Marche populaire
END:VEVENT
END:VCALENDAR